View In:
ArcGIS JavaScript
ArcGIS Online map viewer
ArcGIS Earth
ArcMap
View Footprint In:
ArcGIS Online map viewer
Service Description: Dalles d'orthophotographie aérienne réalisées par prestataire pour le compte de la plateforme régionale d'IDG, Géo-Centre. Orthophotographie aérienne réalisée en deux phases pour le département du Cher : Novembre 2010 et juin 2011. Le territoire de Bourges Plus a été couvert en totalité lors de la première campagne. Démarcation visible entre les deux campagnes dans la forêt de St Amand.
Name: Referentiels/Ortho_BPlus_2010
Description: Dalles d'orthophotographie aérienne réalisées par prestataire pour le compte de la plateforme régionale d'IDG, Géo-Centre. Orthophotographie aérienne réalisée en deux phases pour le département du Cher : Novembre 2010 et juin 2011. Le territoire de Bourges Plus a été couvert en totalité lors de la première campagne. Démarcation visible entre les deux campagnes dans la forêt de St Amand.
Single Fused Map Cache: false
Extent:
XMin: 1629940.0424249598
YMin: 6179451.798520479
XMax: 1689992.2424109802
YMax: 6234500.198571751
Spatial Reference: 3947
(3947)
LatestVCSWkid(0)
Initial Extent:
XMin: 1629940.0424249598
YMin: 6179451.798520479
XMax: 1689992.2424109802
YMax: 6234500.198571751
Spatial Reference: 3947
(3947)
LatestVCSWkid(0)
Full Extent:
XMin: 1629940.0424249598
YMin: 6179451.798520479
XMax: 1689992.2424109802
YMax: 6234500.198571751
Spatial Reference: 3947
(3947)
LatestVCSWkid(0)
Pixel Size X: 0.19999999995344162
Pixel Size Y: 0.20000000018627806
Band Count: 3
Pixel Type: U8
RasterFunction Infos: {"rasterFunctionInfos": [{
"name": "None",
"description": "",
"help": ""
}]}
Mensuration Capabilities: Basic
Has Histograms: true
Has Colormap: false
Has Multi Dimensions : false
Rendering Rule:
Min Scale: 0
Max Scale: 0
Copyright Text:
Service Data Type: esriImageServiceDataTypeRGB
Min Values: 0, 0, 0
Max Values: 255, 255, 255
Mean Values: 110.31015950848885, 112.9255024777776, 102.42340985948667
Standard Deviation Values: 50.599047503781215, 41.815493716916606, 35.248393711854185
Object ID Field:
Fields:
None
Default Mosaic Method: Center
Allowed Mosaic Methods:
SortField:
SortValue: null
Mosaic Operator: First
Default Compression Quality: 75
Default Resampling Method: Bilinear
Max Record Count: null
Max Image Height: 4100
Max Image Width: 15000
Max Download Image Count: null
Max Mosaic Image Count: null
Allow Raster Function: true
Allow Copy: true
Allow Analysis: true
Allow Compute TiePoints: false
Supports Statistics: false
Supports Advanced Queries: false
Use StandardizedQueries: true
Raster Type Infos:
Name: Raster Dataset
Description: Supports all ArcGIS Raster Datasets
Help:
Has Raster Attribute Table: false
Edit Fields Info: null
Ownership Based AccessControl For Rasters: null
Child Resources:
Info
Histograms
Statistics
Key Properties
Legend
Raster Function Infos
Supported Operations:
Export Image
Identify
Measure
Compute Histograms
Compute Statistics Histograms
Get Samples
Compute Class Statistics
Query Boundary
Compute Pixel Location
Compute Angles
Validate
Project