{ "currentVersion": 10.91, "serviceDescription": "
Dalles d'orthophotographie aérienne réalisées par <\/SPAN>prestataire pour le compte de la plateforme régionale d'IDG, Géo-Centre. Orthophotographie aérienne réalisée en deux phases pour le département du Cher : Novembre 2010 et juin 2011. Le territoire de Bourges Plus a été couvert en totalité lors de la première campagne. Démarcation visible entre les deux campagnes dans la forêt de St Amand.<\/SPAN><\/P><\/DIV><\/DIV><\/DIV>",
"name": "Referentiels/Ortho_BPlus_2010",
"description": " Dalles d'orthophotographie aérienne réalisées par <\/SPAN>prestataire pour le compte de la plateforme régionale d'IDG, Géo-Centre. Orthophotographie aérienne réalisée en deux phases pour le département du Cher : Novembre 2010 et juin 2011. Le territoire de Bourges Plus a été couvert en totalité lors de la première campagne. Démarcation visible entre les deux campagnes dans la forêt de St Amand.<\/SPAN><\/P><\/DIV><\/DIV><\/DIV>",
"extent": {
"xmin": 1629940.0424249598,
"ymin": 6179451.798520479,
"xmax": 1689992.2424109802,
"ymax": 6234500.198571751,
"spatialReference": {
"wkid": 3947,
"latestWkid": 3947
}
},
"initialExtent": {
"xmin": 1629940.0424249598,
"ymin": 6179451.798520479,
"xmax": 1689992.2424109802,
"ymax": 6234500.198571751,
"spatialReference": {
"wkid": 3947,
"latestWkid": 3947
}
},
"fullExtent": {
"xmin": 1629940.0424249598,
"ymin": 6179451.798520479,
"xmax": 1689992.2424109802,
"ymax": 6234500.198571751,
"spatialReference": {
"wkid": 3947,
"latestWkid": 3947
}
},
"hasMultidimensions": false,
"pixelSizeX": 0.19999999995344162,
"pixelSizeY": 0.20000000018627806,
"datasetFormat": "FGDBR",
"uncompressedSize": 247933314486,
"blockWidth": 256,
"blockHeight": 256,
"compressionType": "JPEG",
"bandNames": [
"Band_1",
"Band_2",
"Band_3"
],
"allowCopy": true,
"allowAnalysis": true,
"bandCount": 3,
"pixelType": "U8",
"minPixelSize": 0,
"maxPixelSize": 0,
"copyrightText": "",
"serviceDataType": "esriImageServiceDataTypeRGB",
"serviceSourceType": "esriImageServiceSourceTypeDataset",
"minValues": [
0,
0,
0
],
"maxValues": [
255,
255,
255
],
"meanValues": [
110.31015950848885,
112.9255024777776,
102.42340985948667
],
"stdvValues": [
50.599047503781215,
41.815493716916606,
35.248393711854185
],
"objectIdField": "",
"fields": [],
"capabilities": "Image,Metadata,Mensuration",
"defaultMosaicMethod": "Center",
"allowedMosaicMethods": "",
"sortField": "",
"sortValue": null,
"sortAscending": true,
"mosaicOperator": "First",
"defaultCompressionQuality": 75,
"defaultResamplingMethod": "Bilinear",
"maxImageHeight": 4100,
"maxImageWidth": 15000,
"allowRasterFunction": true,
"rasterFunctionInfos": [
{
"name": "None",
"description": "",
"help": ""
}
],
"rasterTypeInfos": [
{
"name": "Raster Dataset",
"description": "Supports all ArcGIS Raster Datasets",
"help": ""
}
],
"mensurationCapabilities": "Basic",
"hasHistograms": true,
"hasColormap": false,
"hasRasterAttributeTable": false,
"minScale": 0,
"maxScale": 0,
"exportTilesAllowed": false,
"supportsStatistics": false,
"supportsAdvancedQueries": false,
"editFieldsInfo": null,
"ownershipBasedAccessControlForRasters": null,
"allowComputeTiePoints": false,
"useStandardizedQueries": true,
"advancedQueryCapabilities": {
"useStandardizedQueries": true,
"supportsStatistics": false,
"supportsOrderBy": false,
"supportsDistinct": false,
"supportsPagination": false
},
"spatialReference": {
"wkid": 3947,
"latestWkid": 3947
}
}