View In:
ArcGIS JavaScript
ArcGIS Online map viewer
ArcGIS Earth
ArcMap
View Footprint In:
ArcGIS Online map viewer
Service Description: Dalles d'orthophotographie aérienne réalisées par l'IGN et assemblées. Achat groupé dans le cadre de la convention départementale de données géographiques.
Name: Referentiels/Ortho_BPlus_2005
Description: Dalles d'orthophotographie aérienne réalisées par l'IGN et assemblées. Achat groupé dans le cadre de la convention départementale de données géographiques.
Single Fused Map Cache: false
Extent:
XMin: 1639635.13228009
YMin: 6190976.55370425
XMax: 1667516.63228009
YMax: 6221018.55370425
Spatial Reference: 3947
(3947)
LatestVCSWkid(0)
Initial Extent:
XMin: 1639635.13228009
YMin: 6190976.55370425
XMax: 1667516.63228009
YMax: 6221018.55370425
Spatial Reference: 3947
(3947)
LatestVCSWkid(0)
Full Extent:
XMin: 1639635.13228009
YMin: 6190976.55370425
XMax: 1667516.63228009
YMax: 6221018.55370425
Spatial Reference: 3947
(3947)
LatestVCSWkid(0)
Pixel Size X: 0.5
Pixel Size Y: 0.5
Band Count: 3
Pixel Type: U8
RasterFunction Infos: {"rasterFunctionInfos": [{
"name": "None",
"description": "",
"help": ""
}]}
Mensuration Capabilities: Basic
Has Histograms: true
Has Colormap: false
Has Multi Dimensions : false
Rendering Rule:
Min Scale: 0
Max Scale: 0
Copyright Text:
Service Data Type: esriImageServiceDataTypeRGB
Min Values: 0, 0, 0
Max Values: 255, 255, 255
Mean Values: 100.72188025597357, 102.2445208370945, 98.0397751728021
Standard Deviation Values: 32.62544587601644, 29.596221442080573, 27.736176839585077
Object ID Field:
Fields:
None
Default Mosaic Method: Center
Allowed Mosaic Methods:
SortField:
SortValue: null
Mosaic Operator: First
Default Compression Quality: 75
Default Resampling Method: Bilinear
Max Record Count: null
Max Image Height: 4100
Max Image Width: 15000
Max Download Image Count: null
Max Mosaic Image Count: null
Allow Raster Function: true
Allow Copy: true
Allow Analysis: true
Allow Compute TiePoints: false
Supports Statistics: false
Supports Advanced Queries: false
Use StandardizedQueries: true
Raster Type Infos:
Name: Raster Dataset
Description: Supports all ArcGIS Raster Datasets
Help:
Has Raster Attribute Table: false
Edit Fields Info: null
Ownership Based AccessControl For Rasters: null
Child Resources:
Info
Histograms
Statistics
Key Properties
Legend
Raster Function Infos
Supported Operations:
Export Image
Identify
Measure
Compute Histograms
Compute Statistics Histograms
Get Samples
Compute Class Statistics
Query Boundary
Compute Pixel Location
Compute Angles
Validate
Project