{ "currentVersion": 10.91, "serviceDescription": "
Dalles d'orthophotographie aérienne réalisées par l'IGN <\/SPAN>et assemblées. Achat groupé dans le cadre de la convention départementale de données géographiques.<\/SPAN><\/P><\/DIV><\/DIV><\/DIV>",
"name": "Referentiels/Ortho_BPlus_2005",
"description": " Dalles d'orthophotographie aérienne réalisées par l'IGN <\/SPAN>et assemblées. Achat groupé dans le cadre de la convention départementale de données géographiques.<\/SPAN><\/P><\/DIV><\/DIV><\/DIV>",
"extent": {
"xmin": 1639635.13228009,
"ymin": 6190976.55370425,
"xmax": 1667516.63228009,
"ymax": 6221018.55370425,
"spatialReference": {
"wkid": 3947,
"latestWkid": 3947
}
},
"initialExtent": {
"xmin": 1639635.13228009,
"ymin": 6190976.55370425,
"xmax": 1667516.63228009,
"ymax": 6221018.55370425,
"spatialReference": {
"wkid": 3947,
"latestWkid": 3947
}
},
"fullExtent": {
"xmin": 1639635.13228009,
"ymin": 6190976.55370425,
"xmax": 1667516.63228009,
"ymax": 6221018.55370425,
"spatialReference": {
"wkid": 3947,
"latestWkid": 3947
}
},
"hasMultidimensions": false,
"pixelSizeX": 0.5,
"pixelSizeY": 0.5,
"datasetFormat": "FGDBR",
"uncompressedSize": 10051392276,
"blockWidth": 256,
"blockHeight": 256,
"compressionType": "JPEG",
"bandNames": [
"Band_1",
"Band_2",
"Band_3"
],
"allowCopy": true,
"allowAnalysis": true,
"bandCount": 3,
"pixelType": "U8",
"minPixelSize": 0,
"maxPixelSize": 0,
"copyrightText": "",
"serviceDataType": "esriImageServiceDataTypeRGB",
"serviceSourceType": "esriImageServiceSourceTypeDataset",
"minValues": [
0,
0,
0
],
"maxValues": [
255,
255,
255
],
"meanValues": [
100.72188025597357,
102.2445208370945,
98.0397751728021
],
"stdvValues": [
32.62544587601644,
29.596221442080573,
27.736176839585077
],
"objectIdField": "",
"fields": [],
"capabilities": "Image,Metadata,Mensuration",
"defaultMosaicMethod": "Center",
"allowedMosaicMethods": "",
"sortField": "",
"sortValue": null,
"sortAscending": true,
"mosaicOperator": "First",
"defaultCompressionQuality": 75,
"defaultResamplingMethod": "Bilinear",
"maxImageHeight": 4100,
"maxImageWidth": 15000,
"allowRasterFunction": true,
"rasterFunctionInfos": [
{
"name": "None",
"description": "",
"help": ""
}
],
"rasterTypeInfos": [
{
"name": "Raster Dataset",
"description": "Supports all ArcGIS Raster Datasets",
"help": ""
}
],
"mensurationCapabilities": "Basic",
"hasHistograms": true,
"hasColormap": false,
"hasRasterAttributeTable": false,
"minScale": 0,
"maxScale": 0,
"exportTilesAllowed": false,
"supportsStatistics": false,
"supportsAdvancedQueries": false,
"editFieldsInfo": null,
"ownershipBasedAccessControlForRasters": null,
"allowComputeTiePoints": false,
"useStandardizedQueries": true,
"advancedQueryCapabilities": {
"useStandardizedQueries": true,
"supportsStatistics": false,
"supportsOrderBy": false,
"supportsDistinct": false,
"supportsPagination": false
},
"spatialReference": {
"wkid": 3947,
"latestWkid": 3947
}
}