View In:
ArcGIS JavaScript
ArcGIS Online map viewer
ArcGIS Earth
ArcMap
View Footprint In:
ArcGIS Online map viewer
Service Description: Referentiels/OrthoHR_BPlus_2020
Name: Referentiels/OrthoHR_BPlus_2020
Description:
Single Fused Map Cache: false
Extent:
XMin: 1634945.2766344338
YMin: 6189460.77680828
XMax: 1669976.0766344338
YMax: 6219487.776808296
Spatial Reference: 3947
(3947)
LatestVCSWkid(0)
Initial Extent:
XMin: 1634945.2766344338
YMin: 6189460.77680828
XMax: 1669976.0766344338
YMax: 6219487.776808296
Spatial Reference: 3947
(3947)
LatestVCSWkid(0)
Full Extent:
XMin: 1634945.2766344338
YMin: 6189460.77680828
XMax: 1669976.0766344338
YMax: 6219487.776808296
Spatial Reference: 3947
(3947)
LatestVCSWkid(0)
Pixel Size X: 0.20000000000000026
Pixel Size Y: 0.20000000000011167
Band Count: 3
Pixel Type: U8
RasterFunction Infos: {"rasterFunctionInfos": [{
"name": "None",
"description": "",
"help": ""
}]}
Mensuration Capabilities: Basic
Has Histograms: true
Has Colormap: false
Has Multi Dimensions : false
Rendering Rule:
Min Scale: 0
Max Scale: 0
Copyright Text:
Service Data Type: esriImageServiceDataTypeRGB
Min Values: 0, 0, 0
Max Values: 255, 255, 255
Mean Values: 104.3014745207237, 107.51880693883834, 94.76481053438383
Standard Deviation Values: 42.17818730899002, 31.567580778335643, 26.914099783087217
Object ID Field:
Fields:
None
Default Mosaic Method: Center
Allowed Mosaic Methods:
SortField:
SortValue: null
Mosaic Operator: First
Default Compression Quality: 75
Default Resampling Method: Bilinear
Max Record Count: null
Max Image Height: 4100
Max Image Width: 15000
Max Download Image Count: null
Max Mosaic Image Count: null
Allow Raster Function: true
Allow Copy: true
Allow Analysis: true
Allow Compute TiePoints: false
Supports Statistics: false
Supports Advanced Queries: false
Use StandardizedQueries: true
Raster Type Infos:
Name: Raster Dataset
Description: Supports all ArcGIS Raster Datasets
Help:
Has Raster Attribute Table: false
Edit Fields Info: null
Ownership Based AccessControl For Rasters: null
Child Resources:
Info
Histograms
Statistics
Key Properties
Legend
Raster Function Infos
Supported Operations:
Export Image
Identify
Measure
Compute Histograms
Compute Statistics Histograms
Get Samples
Compute Class Statistics
Query Boundary
Compute Pixel Location
Compute Angles
Validate
Project