{
 "currentVersion": 10.91,
 "serviceDescription": "Referentiels/OrthoHR_BPlus_2020",
 "name": "Referentiels/OrthoHR_BPlus_2020",
 "description": "",
 "extent": {
  "xmin": 1634945.2766344338,
  "ymin": 6189460.77680828,
  "xmax": 1669976.0766344338,
  "ymax": 6219487.776808296,
  "spatialReference": {
   "wkid": 3947,
   "latestWkid": 3947
  }
 },
 "initialExtent": {
  "xmin": 1634945.2766344338,
  "ymin": 6189460.77680828,
  "xmax": 1669976.0766344338,
  "ymax": 6219487.776808296,
  "spatialReference": {
   "wkid": 3947,
   "latestWkid": 3947
  }
 },
 "fullExtent": {
  "xmin": 1634945.2766344338,
  "ymin": 6189460.77680828,
  "xmax": 1669976.0766344338,
  "ymax": 6219487.776808296,
  "spatialReference": {
   "wkid": 3947,
   "latestWkid": 3947
  }
 },
 "hasMultidimensions": false,
 "pixelSizeX": 0.20000000000000026,
 "pixelSizeY": 0.20000000000011167,
 "datasetFormat": "FGDBR",
 "uncompressedSize": 78890237370,
 "blockWidth": 128,
 "blockHeight": 128,
 "compressionType": "LZ77",
 "bandNames": [
  "Band_1",
  "Band_2",
  "Band_3"
 ],
 "allowCopy": true,
 "allowAnalysis": true,
 "bandCount": 3,
 "pixelType": "U8",
 "minPixelSize": 0,
 "maxPixelSize": 0,
 "copyrightText": "",
 "serviceDataType": "esriImageServiceDataTypeRGB",
 "serviceSourceType": "esriImageServiceSourceTypeDataset",
 "minValues": [
  0,
  0,
  0
 ],
 "maxValues": [
  255,
  255,
  255
 ],
 "meanValues": [
  104.3014745207237,
  107.51880693883834,
  94.76481053438383
 ],
 "stdvValues": [
  42.17818730899002,
  31.567580778335643,
  26.914099783087217
 ],
 "objectIdField": "",
 "fields": [],
 "capabilities": "Image,Mensuration,Metadata",
 "defaultMosaicMethod": "Center",
 "allowedMosaicMethods": "",
 "sortField": "",
 "sortValue": null,
 "sortAscending": true,
 "mosaicOperator": "First",
 "defaultCompressionQuality": 75,
 "defaultResamplingMethod": "Bilinear",
 "maxImageHeight": 4100,
 "maxImageWidth": 15000,
 "allowRasterFunction": true,
 "rasterFunctionInfos": [
  {
   "name": "None",
   "description": "",
   "help": ""
  }
 ],
 "rasterTypeInfos": [
  {
   "name": "Raster Dataset",
   "description": "Supports all ArcGIS Raster Datasets",
   "help": ""
  }
 ],
 "mensurationCapabilities": "Basic",
 "hasHistograms": true,
 "hasColormap": false,
 "hasRasterAttributeTable": false,
 "minScale": 0,
 "maxScale": 0,
 "exportTilesAllowed": false,
 "supportsStatistics": false,
 "supportsAdvancedQueries": false,
 "editFieldsInfo": null,
 "ownershipBasedAccessControlForRasters": null,
 "allowComputeTiePoints": false,
 "useStandardizedQueries": true,
 "advancedQueryCapabilities": {
  "useStandardizedQueries": true,
  "supportsStatistics": false,
  "supportsOrderBy": false,
  "supportsDistinct": false,
  "supportsPagination": false
 },
 "spatialReference": {
  "wkid": 3947,
  "latestWkid": 3947
 }
}
