{
 "currentVersion": 10.91,
 "serviceDescription": "Referentiels/Ortho_BPlus_2013",
 "name": "Referentiels/Ortho_BPlus_2013",
 "description": "",
 "extent": {
  "xmin": 1640337.54242496,
  "ymin": 6190356.69857175,
  "xmax": 1667304.04242496,
  "ymax": 6219141.19857175,
  "spatialReference": {
   "wkid": 3947,
   "latestWkid": 3947
  }
 },
 "initialExtent": {
  "xmin": 1640337.54242496,
  "ymin": 6190356.69857175,
  "xmax": 1667304.04242496,
  "ymax": 6219141.19857175,
  "spatialReference": {
   "wkid": 3947,
   "latestWkid": 3947
  }
 },
 "fullExtent": {
  "xmin": 1640337.54242496,
  "ymin": 6190356.69857175,
  "xmax": 1667304.04242496,
  "ymax": 6219141.19857175,
  "spatialReference": {
   "wkid": 3947,
   "latestWkid": 3947
  }
 },
 "hasMultidimensions": false,
 "pixelSizeX": 0.5,
 "pixelSizeY": 0.5,
 "datasetFormat": "FGDBR",
 "uncompressedSize": 9314606631,
 "blockWidth": 128,
 "blockHeight": 128,
 "compressionType": "LZ77",
 "bandNames": [
  "Band_1",
  "Band_2",
  "Band_3"
 ],
 "allowCopy": true,
 "allowAnalysis": true,
 "bandCount": 3,
 "pixelType": "U8",
 "minPixelSize": 0,
 "maxPixelSize": 0,
 "copyrightText": "",
 "serviceDataType": "esriImageServiceDataTypeRGB",
 "serviceSourceType": "esriImageServiceSourceTypeDataset",
 "minValues": [
  0,
  0,
  0
 ],
 "maxValues": [
  255,
  255,
  255
 ],
 "meanValues": [
  127.4357201207546,
  126.71257128168418,
  91.0146105177245
 ],
 "stdvValues": [
  45.046464752215954,
  32.75571540049537,
  34.78004222666794
 ],
 "objectIdField": "",
 "fields": [],
 "capabilities": "Image,Metadata,Mensuration",
 "defaultMosaicMethod": "Center",
 "allowedMosaicMethods": "",
 "sortField": "",
 "sortValue": null,
 "sortAscending": true,
 "mosaicOperator": "First",
 "defaultCompressionQuality": 75,
 "defaultResamplingMethod": "Bilinear",
 "maxImageHeight": 4100,
 "maxImageWidth": 15000,
 "allowRasterFunction": true,
 "rasterFunctionInfos": [
  {
   "name": "None",
   "description": "",
   "help": ""
  }
 ],
 "rasterTypeInfos": [
  {
   "name": "Raster Dataset",
   "description": "Supports all ArcGIS Raster Datasets",
   "help": ""
  }
 ],
 "mensurationCapabilities": "Basic",
 "hasHistograms": true,
 "hasColormap": false,
 "hasRasterAttributeTable": false,
 "minScale": 0,
 "maxScale": 0,
 "exportTilesAllowed": false,
 "supportsStatistics": false,
 "supportsAdvancedQueries": false,
 "editFieldsInfo": null,
 "ownershipBasedAccessControlForRasters": null,
 "allowComputeTiePoints": false,
 "useStandardizedQueries": true,
 "advancedQueryCapabilities": {
  "useStandardizedQueries": true,
  "supportsStatistics": false,
  "supportsOrderBy": false,
  "supportsDistinct": false,
  "supportsPagination": false
 },
 "spatialReference": {
  "wkid": 3947,
  "latestWkid": 3947
 }
}
